BEGIN:VCALENDAR
VERSION:2.0
PRODID:-//Moto CAMS - ECPv6.15.17.1//NONSGML v1.0//EN
CALSCALE:GREGORIAN
METHOD:PUBLISH
X-WR-CALNAME:Moto CAMS
X-ORIGINAL-URL:https://www.motocams.cz
X-WR-CALDESC:Akce na Moto CAMS
REFRESH-INTERVAL;VALUE=DURATION:PT1H
X-Robots-Tag:noindex
X-PUBLISHED-TTL:PT1H
BEGIN:VTIMEZONE
TZID:Europe/Prague
BEGIN:DAYLIGHT
TZOFFSETFROM:+0100
TZOFFSETTO:+0200
TZNAME:CEST
DTSTART:20250330T010000
END:DAYLIGHT
BEGIN:STANDARD
TZOFFSETFROM:+0200
TZOFFSETTO:+0100
TZNAME:CET
DTSTART:20251026T010000
END:STANDARD
BEGIN:DAYLIGHT
TZOFFSETFROM:+0100
TZOFFSETTO:+0200
TZNAME:CEST
DTSTART:20260329T010000
END:DAYLIGHT
BEGIN:STANDARD
TZOFFSETFROM:+0200
TZOFFSETTO:+0100
TZNAME:CET
DTSTART:20261025T010000
END:STANDARD
BEGIN:DAYLIGHT
TZOFFSETFROM:+0100
TZOFFSETTO:+0200
TZNAME:CEST
DTSTART:20270328T010000
END:DAYLIGHT
BEGIN:STANDARD
TZOFFSETFROM:+0200
TZOFFSETTO:+0100
TZNAME:CET
DTSTART:20271031T010000
END:STANDARD
END:VTIMEZONE
BEGIN:VEVENT
DTSTART;VALUE=DATE:20260424
DTEND;VALUE=DATE:20260427
DTSTAMP:20260420T121145
CREATED:20260323T210917Z
LAST-MODIFIED:20260407T135248Z
UID:1712-1776988800-1777247999@www.motocams.cz
SUMMARY:Přírodní okruhy - Jarní cena Brna 2026
DESCRIPTION:JARNÍ CENA BRNA 2026\n24.–26. dubna 2026 \n\nPROPOZICE PODNIKU \nNABÍDKA NA UBYTOVÁNÍ V HOTELU GRID \n \n \n \n \n \n \n \n \n\nADRESA ZÁVODIŠTĚ\nAutomotodrom Brno\, a.s.Masarykův okruh 201664 81 OstrovačiceIČ: 60728825GPS: 49°12’15.570″N\, 16°26’49.600″E \nPOŘADATEL ZÁVODU\nRoad Racing ClubSídlo: Nová Tyršova 575\, 544 01Dvůr Králové nad LabemKontakt: Petr CivínTel.: +420 603 496 191E-mail: info@roadracingclub.czWeb: www.roadracingclub.cz \nPOPIS ZÁVODIŠTĚ\nDélka: 5 403\,19 m (měřeno v ose vozovky)Šířka: 15\,00 mZatáčky: 14 (6 levých\, 8 pravých) \n 
URL:https://www.motocams.cz/akce/prirodni-okruhy-2024-19-4-2024-21-4-2024-jarni-cena-brna-2024/
LOCATION:Masarykův okruh Brno\, Masarykův okruh 201\, Ostrovačice\, Jihomoravský kraj\, 664 81\, Czech Republic
CATEGORIES:Přírodní okruhy
ATTACH;FMTTYPE=application/pdf:https://www.motocams.cz/wp-content/uploads/2026/03/JCB2026-04-posterA2-1.pdf
ORGANIZER;CN="Road Racing Club":MAILTO:info@roadracingclub.cz
END:VEVENT
END:VCALENDAR